BEGIN:VCALENDAR
VERSION:2.0
PRODID:-//Your Credit Union | Sun East Federal Credit Union - ECPv6.15.20//NONSGML v1.0//EN
CALSCALE:GREGORIAN
METHOD:PUBLISH
X-WR-CALNAME:Your Credit Union | Sun East Federal Credit Union
X-ORIGINAL-URL:https://suneast.org
X-WR-CALDESC:Events for Your Credit Union | Sun East Federal Credit Union
REFRESH-INTERVAL;VALUE=DURATION:PT1H
X-Robots-Tag:noindex
X-PUBLISHED-TTL:PT1H
BEGIN:VTIMEZONE
TZID:America/New_York
BEGIN:DAYLIGHT
TZOFFSETFROM:-0500
TZOFFSETTO:-0400
TZNAME:EDT
DTSTART:20250309T070000
END:DAYLIGHT
BEGIN:STANDARD
TZOFFSETFROM:-0400
TZOFFSETTO:-0500
TZNAME:EST
DTSTART:20251102T060000
END:STANDARD
BEGIN:DAYLIGHT
TZOFFSETFROM:-0500
TZOFFSETTO:-0400
TZNAME:EDT
DTSTART:20260308T070000
END:DAYLIGHT
BEGIN:STANDARD
TZOFFSETFROM:-0400
TZOFFSETTO:-0500
TZNAME:EST
DTSTART:20261101T060000
END:STANDARD
BEGIN:DAYLIGHT
TZOFFSETFROM:-0500
TZOFFSETTO:-0400
TZNAME:EDT
DTSTART:20270314T070000
END:DAYLIGHT
BEGIN:STANDARD
TZOFFSETFROM:-0400
TZOFFSETTO:-0500
TZNAME:EST
DTSTART:20271107T060000
END:STANDARD
END:VTIMEZONE
BEGIN:VEVENT
DTSTART;TZID=America/New_York:20260408T140000
DTEND;TZID=America/New_York:20260408T144500
DTSTAMP:20260421T044731
CREATED:20260226T165740Z
LAST-MODIFIED:20260325T230100Z
UID:7089-1775656800-1775659500@suneast.org
SUMMARY:The Magic of the Debt Management Program
DESCRIPTION:Consumer debt in the U.S. reached $18.33 trillion in 2025\, according to Experian reporting. Of that total\, credit card balances comprised more than $1.21 trillion. Many households are struggling to cover everyday necessities and are relying on credit cards to get by. According to the Federal Reserve\, about 4.5% of credit card balances fell delinquent in the last year. \nWhat You Will Learn\n\nWhat is a Debt Management Program is\nWho can benefit from a Debt Management Program\n\nWho Should Attend\n\nAnyone who has struggled with credit card balances\nAnyone who wants to learn about an option to pay off debt more manageably\n\nRegister Now
URL:https://suneast.org/event/the-magic-of-the-debt-management-program/
LOCATION:Online Webinar
ATTACH;FMTTYPE=image/jpeg:https://suneast.org/wp-content/uploads/2026/02/Apr-Webinar-Header.jpg
END:VEVENT
BEGIN:VEVENT
DTSTART;TZID=America/New_York:20260428T180000
DTEND;TZID=America/New_York:20260428T190000
DTSTAMP:20260421T044731
CREATED:20260414T125525Z
LAST-MODIFIED:20260414T132740Z
UID:7644-1777399200-1777402800@suneast.org
SUMMARY:INVESTMENT SERVICES EVENT | Social Security Rules
DESCRIPTION:Regardless of how close or far away retirement is\, chances are you have questions and could use someone at your side to help lead the way — especially with how Social Security works. \nStart finding answers at our Social Security Rules seminar at no cost or obligation to you. \nWhat You Will Learn\n\nThe rules for starting Social Security benefits\nHow spouses coordinate their benefits\nDifferent things you can do to potentially increase your benefits\nWhere Social Security fits into your retirement plans\n\n\n\n\nRegister Now \n  \nSpace is limited\, so we urge you to make your reservations today. \nIf you have any questions about the virtual workshops\, give Ryan Anger a call at 610-485-2960 x241\, or contact Ryan by email at Ryan.Anger@lpl.com. \n\n\n  \nBack to SERIS page for additional Investment Information \n\n\n  \n\n\n\nDisclosures\nSecurities are offered through LPL Financial (LPL)\, a registered broker-dealer (member FINRA/SIPC). Insurance products are offered through LPL or its licensed affiliates. Sun East Federal Credit Union (Sun East FCU) and SERIS (Sun East Retirement and Investment Services) are not registered as a broker-dealer. Registered representatives of LPL offer products and services using SERIS\, and may also be employees of Sun East FCU. These products and services are being offered through LPL or its affiliates\, which are separate entities from\, and not affiliates of\, Sun East FCU or SERIS. Securities and insurance offered through LPL or its affiliates are: \n\n\nThere is no assurance that the techniques and strategies discussed are suitable for all investors or will yield positive outcomes. The purchase of certain securities may be required to effect some of the strategies. Investing involves risks including possible loss of principal. \nFixed and Variable annuities are for long-term investing\, such as retirement investing. Gains from tax-deferred investments are taxable as ordinary income upon withdrawal. Guarantees are based on the claims paying ability of the issuing company. Variable annuities are subject to risk\, and may lose value. \nThe LPL Financial registered representative(s) associated with this website may discuss and/or transact business only with residents of the states in which they are properly registered or licensed. No offers may be made or accepted from any resident of any other state. \nYour Credit Union (“Financial Institution”) provides referrals to financial professionals of LPL Financial LLC (“LPL”) pursuant to an agreement that allows LPL to pay the Financial Institution for these referrals. This creates an incentive for the Financial Institution to make these referrals\, resulting in a conflict of interest. The Financial Institution is not a current client of LPL for advisory services. \nPlease visit https://www.lpl.com/disclosures/is-lpl-relationship-disclosure.html for more detailed information. \nThese workshops are educational only and are not investment advice. If you need advice regarding your financial goals and investment needs\, contact a financial advisor.
URL:https://suneast.org/event/investment-services-event-social-security-rules/
LOCATION:Online Webinar
ATTACH;FMTTYPE=image/jpeg:https://suneast.org/wp-content/uploads/2025/02/AdobeStock_728600827-scaled.jpeg
END:VEVENT
END:VCALENDAR