BEGIN:VCALENDAR
VERSION:2.0
PRODID:-//Your Credit Union | Sun East Federal Credit Union - ECPv6.15.20//NONSGML v1.0//EN
CALSCALE:GREGORIAN
METHOD:PUBLISH
X-WR-CALNAME:Your Credit Union | Sun East Federal Credit Union
X-ORIGINAL-URL:https://suneast.org
X-WR-CALDESC:Events for Your Credit Union | Sun East Federal Credit Union
REFRESH-INTERVAL;VALUE=DURATION:PT1H
X-Robots-Tag:noindex
X-PUBLISHED-TTL:PT1H
BEGIN:VTIMEZONE
TZID:America/New_York
BEGIN:DAYLIGHT
TZOFFSETFROM:-0500
TZOFFSETTO:-0400
TZNAME:EDT
DTSTART:20230312T070000
END:DAYLIGHT
BEGIN:STANDARD
TZOFFSETFROM:-0400
TZOFFSETTO:-0500
TZNAME:EST
DTSTART:20231105T060000
END:STANDARD
BEGIN:DAYLIGHT
TZOFFSETFROM:-0500
TZOFFSETTO:-0400
TZNAME:EDT
DTSTART:20240310T070000
END:DAYLIGHT
BEGIN:STANDARD
TZOFFSETFROM:-0400
TZOFFSETTO:-0500
TZNAME:EST
DTSTART:20241103T060000
END:STANDARD
BEGIN:DAYLIGHT
TZOFFSETFROM:-0500
TZOFFSETTO:-0400
TZNAME:EDT
DTSTART:20250309T070000
END:DAYLIGHT
BEGIN:STANDARD
TZOFFSETFROM:-0400
TZOFFSETTO:-0500
TZNAME:EST
DTSTART:20251102T060000
END:STANDARD
END:VTIMEZONE
BEGIN:VEVENT
DTSTART;TZID=America/New_York:20241016T100000
DTEND;TZID=America/New_York:20241016T110000
DTSTAMP:20260422T031658
CREATED:20240815T182415Z
LAST-MODIFIED:20241011T202334Z
UID:3432-1729072800-1729076400@suneast.org
SUMMARY:Understanding Your Credit Report and Score
DESCRIPTION:Are you interested in better understanding credit reports\, credit scores\, and how they work together? \nMillions of people are unaware they have errors on their credit report. We can point you in the direction to find out if you are one of them and equip you to take action to correct inaccuracies. \nMaybe you know what is on your credit report but are unsure how it all comes together to calculate a credit score. We will discuss the factors impacting a credit score\, how to build or improve your score\, and debunk common credit myths. \nWhat You Will Learn\n\n\n\nWhat impacts your credit report and credit score\nWhy credit is important\nTips to improve your credit score\n\n\n\nWho Should Attend\n\n\n\nAnyone interested in better understanding what impacts their credit\nAnyone looking to maintain or improve their credit score\nAnyone with errors on their credit report\n\nRegister Now
URL:https://suneast.org/event/understanding-your-credit-report-and-score/
LOCATION:Online Webinar
ATTACH;FMTTYPE=image/webp:https://suneast.org/wp-content/uploads/2024/08/October-Credit-Webinar-10.16.24.webp
END:VEVENT
END:VCALENDAR